BEGIN:VCALENDAR
VERSION:2.0
PRODID:-//wanumart - ECPv6.15.14//NONSGML v1.0//EN
CALSCALE:GREGORIAN
METHOD:PUBLISH
X-WR-CALNAME:wanumart
X-ORIGINAL-URL:https://wanumart.be
X-WR-CALDESC:Évènements pour wanumart
REFRESH-INTERVAL;VALUE=DURATION:PT1H
X-Robots-Tag:noindex
X-PUBLISHED-TTL:PT1H
BEGIN:VTIMEZONE
TZID:Europe/Brussels
BEGIN:DAYLIGHT
TZOFFSETFROM:+0100
TZOFFSETTO:+0200
TZNAME:CEST
DTSTART:20220327T010000
END:DAYLIGHT
BEGIN:STANDARD
TZOFFSETFROM:+0200
TZOFFSETTO:+0100
TZNAME:CET
DTSTART:20221030T010000
END:STANDARD
BEGIN:DAYLIGHT
TZOFFSETFROM:+0100
TZOFFSETTO:+0200
TZNAME:CEST
DTSTART:20230326T010000
END:DAYLIGHT
BEGIN:STANDARD
TZOFFSETFROM:+0200
TZOFFSETTO:+0100
TZNAME:CET
DTSTART:20231029T010000
END:STANDARD
BEGIN:DAYLIGHT
TZOFFSETFROM:+0100
TZOFFSETTO:+0200
TZNAME:CEST
DTSTART:20240331T010000
END:DAYLIGHT
BEGIN:STANDARD
TZOFFSETFROM:+0200
TZOFFSETTO:+0100
TZNAME:CET
DTSTART:20241027T010000
END:STANDARD
END:VTIMEZONE
BEGIN:VEVENT
DTSTART;TZID=Europe/Brussels:20231209T100000
DTEND;TZID=Europe/Brussels:20231209T150000
DTSTAMP:20260420T093918
CREATED:20221211T151028Z
LAST-MODIFIED:20221211T151245Z
UID:704-1702116000-1702134000@wanumart.be
SUMMARY:Stage Photo de nu (si demande)
DESCRIPTION:Défi trimestriel: A la manière de …
URL:https://wanumart.be/event/stage-photo-de-nu
LOCATION:Studio\, Place de la Cure\, 19b\, Wavre\, 1300\, Belgique
CATEGORIES:Cours Technique
END:VEVENT
BEGIN:VEVENT
DTSTART;TZID=Europe/Brussels:20231210T100000
DTEND;TZID=Europe/Brussels:20231210T150000
DTSTAMP:20260420T093918
CREATED:20221211T125709Z
LAST-MODIFIED:20221211T125825Z
UID:648-1702202400-1702220400@wanumart.be
SUMMARY:Lightroom et Photoshop
DESCRIPTION:Les demandes sont à adresser à notre président Dino Cividin.\nLes demandes doivent être accompagnées d’un descriptif (logiciel et version\, sujets\, fonctionnalité\, niveau\,etc..) pour permettre au présentateur d’être en phase avec la demande.\nLes demandes doivent être introduites avant la réunion mensuelle du mois qui précède la date souhaitée. Merci d’avance.
URL:https://wanumart.be/event/lightroom-et-photoshop-8
LOCATION:Studio\, Place de la Cure\, 19b\, Wavre\, 1300\, Belgique
CATEGORIES:Cours Technique
END:VEVENT
END:VCALENDAR